BEGIN:VCALENDAR
VERSION:2.0
PRODID:icalendar-ruby
CALSCALE:GREGORIAN
METHOD:PUBLISH
BEGIN:VEVENT
DTSTAMP:20260424T125004Z
UID:5-405333@newhope119.tithelysetup5.com
DTSTART:20261025T140000Z
DTEND:20261025T150000Z
CLASS:PUBLIC
CREATED:20260424T075309
DESCRIPTION:Sunday Worship
LAST-MODIFIED:20260424T075309
LOCATION:
SUMMARY:Sunday Worship
URL;VALUE=URI:https://newhopebible.org/events/sunday-worship/2026-10-25
END:VEVENT
END:VCALENDAR
